BEGIN:VCALENDAR
VERSION:2.0
PRODID:-//Children&#039;s Cancer Connection - ECPv6.15.20//NONSGML v1.0//EN
CALSCALE:GREGORIAN
METHOD:PUBLISH
X-WR-CALNAME:Children&#039;s Cancer Connection
X-ORIGINAL-URL:https://ccciowa.org
X-WR-CALDESC:Events for Children&#039;s Cancer Connection
REFRESH-INTERVAL;VALUE=DURATION:PT1H
X-Robots-Tag:noindex
X-PUBLISHED-TTL:PT1H
BEGIN:VTIMEZONE
TZID:America/Chicago
BEGIN:DAYLIGHT
TZOFFSETFROM:-0600
TZOFFSETTO:-0500
TZNAME:CDT
DTSTART:20250309T080000
END:DAYLIGHT
BEGIN:STANDARD
TZOFFSETFROM:-0500
TZOFFSETTO:-0600
TZNAME:CST
DTSTART:20251102T070000
END:STANDARD
BEGIN:DAYLIGHT
TZOFFSETFROM:-0600
TZOFFSETTO:-0500
TZNAME:CDT
DTSTART:20260308T080000
END:DAYLIGHT
BEGIN:STANDARD
TZOFFSETFROM:-0500
TZOFFSETTO:-0600
TZNAME:CST
DTSTART:20261101T070000
END:STANDARD
BEGIN:DAYLIGHT
TZOFFSETFROM:-0600
TZOFFSETTO:-0500
TZNAME:CDT
DTSTART:20270314T080000
END:DAYLIGHT
BEGIN:STANDARD
TZOFFSETFROM:-0500
TZOFFSETTO:-0600
TZNAME:CST
DTSTART:20271107T070000
END:STANDARD
END:VTIMEZONE
BEGIN:VEVENT
DTSTART;VALUE=DATE:20261023
DTEND;VALUE=DATE:20261026
DTSTAMP:20260420T043227
CREATED:20251107T155637Z
LAST-MODIFIED:20251107T155637Z
UID:10000352-1792713600-1792972799@ccciowa.org
SUMMARY:2026 Teen Camp
DESCRIPTION:Camp Heart Connection’s Teen Camp is a truly special experience offered to all teens served by CCC. CCC recognizes that our teens face unique medical and emotional challenges\, and they build strength from being together during their journeys. Teen Camp allows teens who are on or off treatment as well as siblings to come together for a weekend of camp activities. They get to meet new friends and visit with existing ones. \n2026 Teen Camp will be held October 23-25 at Wildwood Hills Ranch Retreat center in St. Charles\, IA. CCC will provide transportation to and from camp\, from Iowa City. CCC families from the Des Moines metro – we’ll meet you at Wildwood. Please reach out to camp@ccciowa.org with any questions. \nTo register to attend or volunteer\, visit the Teen Camp page.
URL:https://ccciowa.org/event/2026-teen-camp/
LOCATION:Wildwood Hills Ranch Retreat Center\, 2552 Union Ln\, St. Charles\, 50240\, United States
CATEGORIES:Camps,Teen Camps,Volunteer Opportunities
ATTACH;FMTTYPE=image/jpeg:https://ccciowa.org/wp-content/uploads/2025/11/53933924001_7675c23852_k.jpg
ORGANIZER;CN="Camp Team":MAILTO:camp@ccciowa.org
END:VEVENT
END:VCALENDAR