BEGIN:VCALENDAR
VERSION:2.0
PRODID:-//Children&#039;s Cancer Connection - ECPv6.15.20//NONSGML v1.0//EN
CALSCALE:GREGORIAN
METHOD:PUBLISH
X-ORIGINAL-URL:https://ccciowa.org
X-WR-CALDESC:Events for Children&#039;s Cancer Connection
REFRESH-INTERVAL;VALUE=DURATION:PT1H
X-Robots-Tag:noindex
X-PUBLISHED-TTL:PT1H
BEGIN:VTIMEZONE
TZID:UTC
BEGIN:STANDARD
TZOFFSETFROM:+0000
TZOFFSETTO:+0000
TZNAME:UTC
DTSTART:20220101T000000
END:STANDARD
END:VTIMEZONE
BEGIN:VEVENT
DTSTART;TZID=UTC:20230402T160000
DTEND;TZID=UTC:20230402T180000
DTSTAMP:20260420T130013
CREATED:20230216T225409Z
LAST-MODIFIED:20230322T123136Z
UID:10000176-1680451200-1680458400@ccciowa.org
SUMMARY:Teen Hangout - Outing
DESCRIPTION:Teens ages 13-18\, oncology and sibling\, are invited to spend a fun evening with friends on an outing. Join CCC at Sky Zone Trampoline Park. Admission and a snack will be provided. Hang out with others who have been through their own of their sibling’s cancer journey. \nVolunteers ages 21+ can see shift availability and/or sign up through the CCC volunteer platform.
URL:https://ccciowa.org/event/teen-hangout-outing-2/
LOCATION:Sky Zone Trampoline Park\, 1300 SE Gateway Dr Suite 103\, Grimes\, 50111
CATEGORIES:Teen Hangouts/Lock-Ins,Volunteer Opportunities
ATTACH;FMTTYPE=image/png:https://ccciowa.org/wp-content/uploads/2023/02/sky-zone2.png
ORGANIZER;CN="Programs Team":MAILTO:programs@ccciowa.org
END:VEVENT
END:VCALENDAR