BEGIN:VCALENDAR
VERSION:2.0
PRODID:-//Children&#039;s Cancer Connection - ECPv6.15.20//NONSGML v1.0//EN
CALSCALE:GREGORIAN
METHOD:PUBLISH
X-WR-CALNAME:Children&#039;s Cancer Connection
X-ORIGINAL-URL:https://ccciowa.org
X-WR-CALDESC:Events for Children&#039;s Cancer Connection
REFRESH-INTERVAL;VALUE=DURATION:PT1H
X-Robots-Tag:noindex
X-PUBLISHED-TTL:PT1H
BEGIN:VTIMEZONE
TZID:America/Chicago
BEGIN:DAYLIGHT
TZOFFSETFROM:-0600
TZOFFSETTO:-0500
TZNAME:CDT
DTSTART:20250309T080000
END:DAYLIGHT
BEGIN:STANDARD
TZOFFSETFROM:-0500
TZOFFSETTO:-0600
TZNAME:CST
DTSTART:20251102T070000
END:STANDARD
BEGIN:DAYLIGHT
TZOFFSETFROM:-0600
TZOFFSETTO:-0500
TZNAME:CDT
DTSTART:20260308T080000
END:DAYLIGHT
BEGIN:STANDARD
TZOFFSETFROM:-0500
TZOFFSETTO:-0600
TZNAME:CST
DTSTART:20261101T070000
END:STANDARD
BEGIN:DAYLIGHT
TZOFFSETFROM:-0600
TZOFFSETTO:-0500
TZNAME:CDT
DTSTART:20270314T080000
END:DAYLIGHT
BEGIN:STANDARD
TZOFFSETFROM:-0500
TZOFFSETTO:-0600
TZNAME:CST
DTSTART:20271107T070000
END:STANDARD
END:VTIMEZONE
BEGIN:VEVENT
DTSTART;VALUE=DATE:20260710
DTEND;VALUE=DATE:20260713
DTSTAMP:20260420T020639
CREATED:20260226T220930Z
LAST-MODIFIED:20260227T215717Z
UID:10000367-1783641600-1783900799@ccciowa.org
SUMMARY:A Special Adventure in Okoboji
DESCRIPTION:Adventures matter\, and the ability to get away and hit the road can mean a celebration or turning point in a child’s course of cancer treatment. To support families battling childhood cancer\, the Deb and Jeff Hansen Foundation offers “A Special Adventure” in partnership with Children’s Cancer Connection as a way to provide families access to an all-Iowa weekend getaway to make memories together and have fun. \nRegistration for 2026 trips will open March 8 and close April 11.  \n7 families will be granted. Any CCC family (including families who have lost a child to cancer) with a child 18 or younger still living at home is eligible to apply\, provided they have not been on a previous Special Adventure. The Lake Life Escape in Okoboji will be held July 10-12. \nVisit the ASA web page for details.
URL:https://ccciowa.org/event/a-special-adventure-in-okoboji/
LOCATION:Lake Okoboji\, Iowa
CATEGORIES:A Special Adventure
ATTACH;FMTTYPE=image/jpeg:https://ccciowa.org/wp-content/uploads/2026/02/IMG_2034.jpg
ORGANIZER;CN="Programs Team":MAILTO:programs@ccciowa.org
END:VEVENT
BEGIN:VEVENT
DTSTART;VALUE=DATE:20260807
DTEND;VALUE=DATE:20260810
DTSTAMP:20260420T020639
CREATED:20260226T221911Z
LAST-MODIFIED:20260304T201743Z
UID:10000369-1786060800-1786319999@ccciowa.org
SUMMARY:A Special Adventure in Okoboji
DESCRIPTION:Adventures matter\, and the ability to get away and hit the road can mean a celebration or turning point in a child’s course of cancer treatment. To support families battling childhood cancer\, the Deb and Jeff Hansen Foundation offers “A Special Adventure” in partnership with Children’s Cancer Connection as a way to provide families access to an all-Iowa weekend getaway to make memories together and have fun. \nRegistration for 2026 trips will open March 8 and close April 11.  \n7 families will be granted. Any CCC family (including families who have lost a child to cancer) with a child 18 or younger still living at home is eligible to apply\, provided they have not been on a previous Special Adventure. The Lake Life Escape in Okoboji will be held August 7-9. \nVisit the ASA web page for details.
URL:https://ccciowa.org/event/a-special-adventure-in-okoboji-2/
LOCATION:Lake Okoboji\, Iowa
CATEGORIES:A Special Adventure
ATTACH;FMTTYPE=image/jpeg:https://ccciowa.org/wp-content/uploads/2026/02/IMG_2034.jpg
ORGANIZER;CN="Programs Team":MAILTO:programs@ccciowa.org
END:VEVENT
END:VCALENDAR